BEGIN:VCALENDAR
VERSION:2.0
PRODID:-//Ecologische wijk | Drielanden - ECPv6.15.20//NONSGML v1.0//EN
CALSCALE:GREGORIAN
METHOD:PUBLISH
X-ORIGINAL-URL:https://www.drielanden.nl
X-WR-CALDESC:Evenementen voor Ecologische wijk | Drielanden
REFRESH-INTERVAL;VALUE=DURATION:PT1H
X-Robots-Tag:noindex
X-PUBLISHED-TTL:PT1H
BEGIN:VTIMEZONE
TZID:Europe/Amsterdam
BEGIN:DAYLIGHT
TZOFFSETFROM:+0100
TZOFFSETTO:+0200
TZNAME:CEST
DTSTART:20240331T010000
END:DAYLIGHT
BEGIN:STANDARD
TZOFFSETFROM:+0200
TZOFFSETTO:+0100
TZNAME:CET
DTSTART:20241027T010000
END:STANDARD
BEGIN:DAYLIGHT
TZOFFSETFROM:+0100
TZOFFSETTO:+0200
TZNAME:CEST
DTSTART:20250330T010000
END:DAYLIGHT
BEGIN:STANDARD
TZOFFSETFROM:+0200
TZOFFSETTO:+0100
TZNAME:CET
DTSTART:20251026T010000
END:STANDARD
BEGIN:DAYLIGHT
TZOFFSETFROM:+0100
TZOFFSETTO:+0200
TZNAME:CEST
DTSTART:20260329T010000
END:DAYLIGHT
BEGIN:STANDARD
TZOFFSETFROM:+0200
TZOFFSETTO:+0100
TZNAME:CET
DTSTART:20261025T010000
END:STANDARD
END:VTIMEZONE
BEGIN:VEVENT
DTSTART;VALUE=DATE:20250829
DTEND;VALUE=DATE:20250830
DTSTAMP:20260424T003431
CREATED:20250924T201713Z
LAST-MODIFIED:20250924T201713Z
UID:3499-1756425600-1756511999@www.drielanden.nl
SUMMARY:Vleermuisexcursie
DESCRIPTION:Op vrijdag 29 augustus organiseert de Vleermuiswerkgroep Groningen een vleermuisexcursie bij de wijk Drielanden ter gelegenheid van de Nacht van de Vleermuis. Tijdens de wandeling komt u meer te weten over het leven van deze schemerdiertjes. Waar wonen ze? Waar leven ze van? En hoe kunt u ze helpen? \nOverdag zie je ze niet\, maar bij het vallen van de avond worden de vleermuizen wakker en vliegen ze razendsnel rond op zoek naar insecten. Met een batdetector kunnen de vleermuizen aan de hand van het unieke ultrasone geluid dat ze maken\, herkend worden en kan hun soort worden bepaald.  In Drielanden komen tenminste vijf soorten vleermuizen voor. Die zijn er niet altijd allemaal\, maar meestal is het toch wel mogelijk drie verschillende soorten vleermuizen te spotten: Dwergvleermuizen\, Laatvliegers en/of Rosse en Watervleermuizen. \nDeelname aan de excursie kan uitsluitend na aanmelding via info@vleermuiswerkgroepgroningen.nl\, met vermelding van het aantal volwassenen en kinderen\, uiterlijk woensdag 27 augustus 12.00 uur. Kosten voor deelname: volwassenen € 3\,50; kinderen €1\,50\, contant te betalen bij start excursie. \nDe excursie begint om 20.20 uur bij de waterschalen achterin Waterland en eindigt ca. 22.30 uur \nZie verder www.nachtvandevleermuis.nl. Vleermuizen houden niet van regen. Als er veel regen verwacht wordt\, wordt de excursie afgezegd. \n 
URL:https://www.drielanden.nl/evenementen/vleermuisexcursie/
END:VEVENT
END:VCALENDAR