BEGIN:VCALENDAR
VERSION:2.0
PRODID:-//Ecologische wijk | Drielanden - ECPv6.15.20//NONSGML v1.0//EN
CALSCALE:GREGORIAN
METHOD:PUBLISH
X-WR-CALNAME:Ecologische wijk | Drielanden
X-ORIGINAL-URL:https://www.drielanden.nl
X-WR-CALDESC:Evenementen voor Ecologische wijk | Drielanden
REFRESH-INTERVAL;VALUE=DURATION:PT1H
X-Robots-Tag:noindex
X-PUBLISHED-TTL:PT1H
BEGIN:VTIMEZONE
TZID:Europe/Amsterdam
BEGIN:DAYLIGHT
TZOFFSETFROM:+0100
TZOFFSETTO:+0200
TZNAME:CEST
DTSTART:20240331T010000
END:DAYLIGHT
BEGIN:STANDARD
TZOFFSETFROM:+0200
TZOFFSETTO:+0100
TZNAME:CET
DTSTART:20241027T010000
END:STANDARD
BEGIN:DAYLIGHT
TZOFFSETFROM:+0100
TZOFFSETTO:+0200
TZNAME:CEST
DTSTART:20250330T010000
END:DAYLIGHT
BEGIN:STANDARD
TZOFFSETFROM:+0200
TZOFFSETTO:+0100
TZNAME:CET
DTSTART:20251026T010000
END:STANDARD
BEGIN:DAYLIGHT
TZOFFSETFROM:+0100
TZOFFSETTO:+0200
TZNAME:CEST
DTSTART:20260329T010000
END:DAYLIGHT
BEGIN:STANDARD
TZOFFSETFROM:+0200
TZOFFSETTO:+0100
TZNAME:CET
DTSTART:20261025T010000
END:STANDARD
END:VTIMEZONE
BEGIN:VEVENT
DTSTART;TZID=Europe/Amsterdam:20250929T130000
DTEND;TZID=Europe/Amsterdam:20250929T160000
DTSTAMP:20260423T213450
CREATED:20250924T202106Z
LAST-MODIFIED:20250924T202106Z
UID:3505-1759150800-1759161600@www.drielanden.nl
SUMMARY:Oogstfeest
DESCRIPTION:Zondag 29 september van 13.00 tot 16.00 uur vieren we ons traditionele ‘Oogstfeest’. Het pleintje in Waterland is deze middag een gezellige koffietent annex fruitverwerkingsfabriek. Kom chillen en appels schillen! Met het fruit dat we zelf hebben geplukt van de fruitbomen in de wijk gaan we lekkere hapjes en drankjes maken. \nIedereen kan appels en ander fruit uit de wijk meenemen en helpen te verwerken tot iets lekkers om ter plekke te nuttigen. Kinderen kunnen een verkeersborden schilderen\, schminken\, of zelf appelflappen bakken. En poffertjes eten! \nOok is er een korte\, boeiende rondleiding voor de jeugd en hun ouders langs de bomen en struiken: wat leeft en groeit daar op en onder en hoe kun je het best plukken? Verzamel gevallen fruit voor het feest en neem het vooral mee. \nVrijwilligers gezocht! \nWil je tijdens het feest zelf een handje meehelpen? Super! \nLaat het ons weten en stuur een mailtje naar bewonersvereniging@drielanden.nl t.a.v. Oogstfeest. \nTot zondag 29 september! \nNamens het bestuur en de vrijwilligers \nJacqueline\, Laura\, Rika\, Diana\, Frank\, Tjeerd
URL:https://www.drielanden.nl/evenementen/oogstfeest/
END:VEVENT
END:VCALENDAR