BEGIN:VCALENDAR
VERSION:2.0
PRODID:-//Ecologische wijk | Drielanden - ECPv6.15.20//NONSGML v1.0//EN
CALSCALE:GREGORIAN
METHOD:PUBLISH
X-ORIGINAL-URL:https://www.drielanden.nl
X-WR-CALDESC:Evenementen voor Ecologische wijk | Drielanden
REFRESH-INTERVAL;VALUE=DURATION:PT1H
X-Robots-Tag:noindex
X-PUBLISHED-TTL:PT1H
BEGIN:VTIMEZONE
TZID:Europe/Amsterdam
BEGIN:DAYLIGHT
TZOFFSETFROM:+0100
TZOFFSETTO:+0200
TZNAME:CEST
DTSTART:20240331T010000
END:DAYLIGHT
BEGIN:STANDARD
TZOFFSETFROM:+0200
TZOFFSETTO:+0100
TZNAME:CET
DTSTART:20241027T010000
END:STANDARD
BEGIN:DAYLIGHT
TZOFFSETFROM:+0100
TZOFFSETTO:+0200
TZNAME:CEST
DTSTART:20250330T010000
END:DAYLIGHT
BEGIN:STANDARD
TZOFFSETFROM:+0200
TZOFFSETTO:+0100
TZNAME:CET
DTSTART:20251026T010000
END:STANDARD
BEGIN:DAYLIGHT
TZOFFSETFROM:+0100
TZOFFSETTO:+0200
TZNAME:CEST
DTSTART:20260329T010000
END:DAYLIGHT
BEGIN:STANDARD
TZOFFSETFROM:+0200
TZOFFSETTO:+0100
TZNAME:CET
DTSTART:20261025T010000
END:STANDARD
END:VTIMEZONE
BEGIN:VEVENT
DTSTART;TZID=Europe/Amsterdam:20251115T100000
DTEND;TZID=Europe/Amsterdam:20251115T140000
DTSTAMP:20260423T123856
CREATED:20250714T122957Z
LAST-MODIFIED:20251029T101605Z
UID:1369-1763200800-1763215200@www.drielanden.nl
SUMMARY:Snoeidag
DESCRIPTION:De jaarlijkse snoeidagen zijn dit jaar op 8 en 15 november\, van 10 tot 14 uur. Verzamelen om 10 uur op het pleintje in Waterland.
URL:https://www.drielanden.nl/evenementen/snoeidagen-2/
LOCATION:Waterschalen Waterland
END:VEVENT
BEGIN:VEVENT
DTSTART;TZID=Europe/Amsterdam:20251108T100000
DTEND;TZID=Europe/Amsterdam:20251108T140000
DTSTAMP:20260423T123856
CREATED:20250606T202708Z
LAST-MODIFIED:20251029T101428Z
UID:2497-1762596000-1762610400@www.drielanden.nl
SUMMARY:Snoeidag
DESCRIPTION:Op de zaterdagen 8 en 15 november zijn de snoeidagen van Drielanden. We beginnen om 10 uur en verzamelen op het pleintje van Waterland.
URL:https://www.drielanden.nl/evenementen/snoeidag/
LOCATION:Waterschalen Waterland
END:VEVENT
END:VCALENDAR